BEGIN:VCALENDAR
VERSION:2.0
PRODID:-//Addicted 2 Fabric - ECPv4.9.4//NONSGML v1.0//EN
CALSCALE:GREGORIAN
METHOD:PUBLISH
X-WR-CALNAME:Addicted 2 Fabric
X-ORIGINAL-URL:http://a2f.com.au
X-WR-CALDESC:Events for Addicted 2 Fabric
BEGIN:VTIMEZONE
TZID:"Australia/Adelaide"
BEGIN:STANDARD
TZOFFSETFROM:+1030
TZOFFSETTO:+0930
TZNAME:ACST
DTSTART:20200404T163000
END:STANDARD
BEGIN:DAYLIGHT
TZOFFSETFROM:+0930
TZOFFSETTO:+1030
TZNAME:ACDT
DTSTART:20201003T163000
END:DAYLIGHT
END:VTIMEZONE
BEGIN:VEVENT
DTSTART;TZID="Australia/Adelaide":20200225T173000
DTEND;TZID="Australia/Adelaide":20200225T200000
DTSTAMP:20200224T185852
CREATED:20200116T054937Z
LAST-MODIFIED:20200130T093405Z
UID:2161-1582651800-1582660800@a2f.com.au
SUMMARY:Beginners Patchwork with Jenny Peterson
DESCRIPTION: \nThis course is perfect for the absolute beginner who has always wanted to make a quilt. You will explore different many different techniques whilst putting together a sampler quilt. \nThis course goes for a duration of 8 weeks and is scheduled for every Tuesday evening from 25th of February 5.30pm – 8pm each week. \nCourse Outline \nWeek 1 – Evening Star block x 2 \nCategorize\, draw\, rotary cut and sew the block. Homework to complete. \nWeek 2 – Churn Dash block x 2 \nCategorize\, draw\, rotary cut and sew the 1/2 square triangles \nWeek 3 –  \nGrandmothers fan and Wedding ring block \nDesign block using template plastic\, protractor and sew block together. Involves hand sewing. \nWeek 4-  \nJacobs ladder blocks x 2 \nDesign block with half square triangles and bulky seams. This is a 28 piece block \nWeek 5 –  \nApplique block \nLearn English Paper Piecing\, making templates and shapes\, making bias and needleturn applique \nWeek 6 –  \nConstruction of quilt\, Squaring up blocks\, sashing and intersections. \nWeek 7 –  \nBasting and quilting \nWeek 8 – \nBinding and Chocolates! \nFurther Details\nNote: after booking in we will organise a time for you to meet with Jenny in store to help with fabric choices. You will receive 10% off all your fabric purchases upon signing up.  \n\n\n\n\n	Level of skillBeginner\n\n\n	PrerequisitesNil\n\n\n	DurationEvery Tuesday for eight weeks\n\n\n	Hours of attendance5:30pm- 8:00pm\n\n\n	Cost$220\n\n\n\n\n\n\n
URL:http://a2f.com.au/workshop/beginners-patchwork-with-wendy-saclier-2-2-2-3-2/
LOCATION:Addicted 2 Fabric Office\, 25 Dundas Court\, Phillip\, ACT\, 2606\, Australia
ATTACH;FMTTYPE=image/jpeg:http://a2f.com.au/wp-content/uploads/2020/01/beginners-patchwork-e1579153935463.jpg
END:VEVENT
BEGIN:VEVENT
DTSTART;TZID="Australia/Adelaide":20200229T140000
DTEND;TZID="Australia/Adelaide":20200229T150000
DTSTAMP:20200224T185852
CREATED:20191205T031342Z
LAST-MODIFIED:20200215T095247Z
UID:2075-1582984800-1582988400@a2f.com.au
SUMMARY:The New Hexagon with Jenny Peterson
DESCRIPTION: \nThis is a great project to start the year off! \nUnlock the possibilities within hexagons an make your own unique blocks while English Paper piecing. \nIn this first class Jenny Peterson will be teaching you the first 2 blocks to get you started  using the fabulous Eppiflex templates. We will then have continuous classes each month to keep you on your hexagon journey! \nFor this class you will need the  ‘The New Hexagon’ book and templates\, both can be found in store. \n\n\n \nFurther Details\n\n\n\n\n	Level of skillBeginners to Advanced\n\n\n	PrerequisitesNone\n\n\n	Hours of attendance2pm - 3pm \n\n\n	Cost10\n\n\n	Frequency1 hour \n\n\n\n\n\n\n
URL:http://a2f.com.au/workshop/learn-to-paper-piece-with-alison-zanchetto-4-2/
LOCATION:Addicted 2 Fabric Office\, 25 Dundas Court\, Phillip\, ACT\, 2606\, Australia
ATTACH;FMTTYPE=image/jpeg:http://a2f.com.au/wp-content/uploads/2019/12/The-new-hexagon--e1575515406605.jpg
END:VEVENT
BEGIN:VEVENT
DTSTART;TZID="Australia/Adelaide":20200307T100000
DTEND;TZID="Australia/Adelaide":20200307T160000
DTSTAMP:20200224T185852
CREATED:20191205T023748Z
LAST-MODIFIED:20191205T023748Z
UID:2071-1583575200-1583596800@a2f.com.au
SUMMARY:Unlock the Joy of Hand applique with Megan Manwaring
DESCRIPTION: \nDescription:\nUnlock Unlock the joy of hand applique and fussy cutting with Megan Manwaring while making her applique cushion from her 100 day project.\nIn this workshop she will focus on technique (Needleturn and turned edge Applique) as well as colour and contrast. \n  \n  \n  \n  \n\n\n \nFurther Details:\n\n\n\n\n	Level of skillBeginners to intermediate \n\n\n	PrerequisitesNone\n\n\n	Hours of attendance10:00am to 4pm \n\n\n	Cost95\n\n\n	Frequency6 hour class\n\n\n\n\n\n\n
URL:http://a2f.com.au/workshop/lets-wrap-with-kerry-2-2-2-4-3-3-2-2/
LOCATION:Addicted 2 Fabric Office\, 25 Dundas Court\, Phillip\, ACT\, 2606\, Australia
CATEGORIES:Current
ATTACH;FMTTYPE=image/jpeg:http://a2f.com.au/wp-content/uploads/2019/01/applique-cushion-e1575512841975.jpg
END:VEVENT
BEGIN:VEVENT
DTSTART;TZID="Australia/Adelaide":20200314T093000
DTEND;TZID="Australia/Adelaide":20200314T163000
DTSTAMP:20200224T185852
CREATED:20200122T231449Z
LAST-MODIFIED:20200123T224524Z
UID:2187-1584178200-1584203400@a2f.com.au
SUMMARY:Free Motion Machine Quilting with Beth Reid
DESCRIPTION: \nDescription:\nLearn simple free motion quilting using own machine with award winning textile artist and quilting guru. This workshop is more than a stitch in the ditch as it will allow you to be creative and free with your machine quilting. \n  \n\n\n \nFurther Details:\n\n\n\n\n	Level of skillBeginners to Advanced \n\n\n	PrerequisitesNone\n\n\n	Hours of attendance7 hours (includes a break for lunch)\n\n\n	Cost$75\n\n\n	Frequencyone workshop\n\n\n\n\n\n\n
URL:http://a2f.com.au/workshop/lets-wrap-with-kerry-2-2-2-4-3-3-3-3-2-2/
LOCATION:Addicted 2 Fabric Office\, 25 Dundas Court\, Phillip\, ACT\, 2606\, Australia
CATEGORIES:Current
ATTACH;FMTTYPE=image/jpeg:http://a2f.com.au/wp-content/uploads/2019/03/Beth-Reid.jpg
END:VEVENT
BEGIN:VEVENT
DTSTART;TZID="Australia/Adelaide":20200319T173000
DTEND;TZID="Australia/Adelaide":20200326T203000
DTSTAMP:20200224T185852
CREATED:20200128T045217Z
LAST-MODIFIED:20200128T045217Z
UID:2212-1584639000-1585254600@a2f.com.au
SUMMARY:Stretch Knit Top with Bex Eden
DESCRIPTION: \nDescription:\nIn this class you will be using the Tessuti Alexa Top pattern and is provided in the cost of the class. \nThis pattern is a great every day basic and in this class you will learn to make this t-shirt. This class is not for the very beginner \, you must know how to confidently use your sewing machine and understand how to trace and read a pattern. \nYou will learn the difference between knit and woven fabrics and why we treat them differently when sewing. Discuss the knit and purl side of the fabric\, and the suitable stitches and needles to use with knit fabrics. \nYou will also learn how to lay the fabric out for cutting\, how to use a rotary cutter and cutting mat for cutting out instead of scissors. \nTo finish the top you will do it with a twin needle hemming. \nNOTE: This class goes over 2 sessions: Thursday evenings from 5.30pm – 8.30pm\, March 19th and 26th  \n  \n  \n\n\n \nFurther Details:\nYou will need your own sewing machine for this class \n  \n  \n\n\n\n\n	Level of skillIntermediate to advanced \n\n\n	Prerequisitesknowledge of how to use own sewing machine\n\n\n	Hours of attendance5.30pm-8.30pm for 2 Thursday evenings \n\n\n	Cost$85 for the 2 classes with pattern included. \n\n\n	Frequency\n\n\n\n\n\n\n
URL:http://a2f.com.au/workshop/christmas-in-july-with-sylvia-3-2-2-2-2/
LOCATION:Addicted 2 Fabric Office\, 25 Dundas Court\, Phillip\, ACT\, 2606\, Australia
CATEGORIES:Current
ATTACH;FMTTYPE=image/jpeg:http://a2f.com.au/wp-content/uploads/2020/01/alexa_big_1_1024x1024-e1580186829721.jpg
END:VEVENT
BEGIN:VEVENT
DTSTART;TZID="Australia/Adelaide":20200328T090000
DTEND;TZID="Australia/Adelaide":20200329T170000
DTSTAMP:20200224T185852
CREATED:20200124T013348Z
LAST-MODIFIED:20200215T095442Z
UID:2190-1585386000-1585501200@a2f.com.au
SUMMARY:Jeans Construction with Bex Eden
DESCRIPTION: \nDescription:\nNote: This is a 2 day workshop held on Saturday 28th and Sunday 29th March. A meet and greet to get organised with fabric etc. is available on Friday the 27th of March from 3pm – 5pm. The Pattern from Closet case and sandwiches for lunch and a morning tea on both days is included.  \nWould you like to make your own jeans\, but consider the process too difficult?\nIf so\, this class is for you. In this 4 part class over 2 days\, we’ll be focusing on the tricky details involved in making jeans\, including zipper fly fronts\, pockets\, and topstitching.\nWe will use the Ginger Jeans pattern by Closet Case. We’ll cover the tricky parts of construction during class\, but some time outside of class may be required to finish your pair of jeans.\nYou will also need to come into the store on Friday 3 April between 3pm and 5pm\, to meet with Bex\, She will guide you with your fabric choice\, and the preparation required to start the class. You can also purchase the notions you will need. There will be a 10% discount on fabric purchases during this visit. You will need to wash your fabric and trace your pattern\, so that you are ready to start on Saturday.\nThis is an advanced sewing class. You must know how to follow a pattern\, be able to trace your pattern and be confident with your sewing machine. You will also need to be confident with an overlocker\, and we will have 2 or 3 available for your use in class.\n\n \n  \n  \n\n\n \nFurther Details:\n\n\n\n\n	Level of skillIntermediate to Advanced \n\n\n	PrerequisitesN/A\n\n\n	Hours of attendance9am to 5pm both days\n\n\n	Cost$245\n\n\n	Frequency8 hours each day \n\n\n\n\n\n\n
URL:http://a2f.com.au/workshop/lets-wrap-with-kerry-2-2-2-4-3-3-3-4-2/
LOCATION:Addicted 2 Fabric Office\, 25 Dundas Court\, Phillip\, ACT\, 2606\, Australia
CATEGORIES:Current
ATTACH;FMTTYPE=image/jpeg:http://a2f.com.au/wp-content/uploads/2020/01/GInger_Skinny_Jeans_pattern_-_highwaisted_jeans_1280x1280-e1579827592490.jpg
END:VEVENT
BEGIN:VEVENT
DTSTART;TZID="Australia/Adelaide":20200404T100000
DTEND;TZID="Australia/Adelaide":20200404T150000
DTSTAMP:20200224T185852
CREATED:20200130T082358Z
LAST-MODIFIED:20200212T110556Z
UID:2226-1585994400-1586012400@a2f.com.au
SUMMARY:Betsy Bag Class with Robyn Shapiro
DESCRIPTION: \nDescription:\n  \nRobyn will teach you how to make your own Liberty Scrappy Strips and then demonstrate how to use them to crochet a beautiful ‘Betsy’ bag. This is a fantastic way to recycle scraps and create something the perfect size for carrying your purse and phone – while also displaying your Love of Liberty Fabrics to the world. \nTeacher Bio\nRobyn has been a crafter for longer than she can remember\, since learning to sew\, crochet and knit as a young girl sitting on her Oumas lap. Now the Distributor for Liberty Fabrics in Australia\, her life revolves around fabric\, quilting and using her hands to create beautiful and practical designs. Robyn has taught sold out workshops in Australia and New Zealand\, and her quilt/sewing projects have been featured in various publications (including Make Modern Magazine\, Quilters Companion and Homespun Magazine.). Her designs reflect her respect for the slow stitching process\, as well as her passion for all things Liberty. \n \n\n\n \nFurther Details:\nLunch and morning tea will be included. \n\n\n\n\n	Level of skillBeginners to Advanced \n\n\n	PrerequisitesNeed to have a basic knowledge of Crochet \n\n\n	Hours of attendance10:00am to 3pm \n\n\n	Cost$150\n\n\n	Frequency5 hours\n\n\n\n\n\n\n
URL:http://a2f.com.au/workshop/lets-wrap-with-kerry-2-2-2-4-3-3-3-4-4/
LOCATION:Addicted 2 Fabric Office\, 25 Dundas Court\, Phillip\, ACT\, 2606\, Australia
CATEGORIES:Current
ATTACH;FMTTYPE=image/jpeg:http://a2f.com.au/wp-content/uploads/2020/01/crochet-liberty-bag-e1580372169542.jpg
END:VEVENT
BEGIN:VEVENT
DTSTART;TZID="Australia/Adelaide":20200405T100000
DTEND;TZID="Australia/Adelaide":20200405T150000
DTSTAMP:20200224T185852
CREATED:20200130T083541Z
LAST-MODIFIED:20200130T093124Z
UID:2234-1586080800-1586098800@a2f.com.au
SUMMARY:Scrappy Boho Quilt with Robyn Shapiro
DESCRIPTION: \nDescription:\nLet your creativity run wild with Robyn’s fun and improvised approach to stitching ‘boho’ blocks. This project is perfect for using up all the beautiful scraps of fabric you have collected! Robyn will guide you through the process of balancing different fabric patterns\, colours and tones – by the end of the class you should feel confident to follow your intuition in creating a truly beautiful\, one of a kind quilt. \nTeacher Bio\nRobyn has been a crafter for longer than she can remember\, since learning to sew\, crochet and knit as a young girl sitting on her Oumas lap. Now the Distributor for Liberty Fabrics in Australia\, her life revolves around fabric\, quilting and using her hands to create beautiful and practical designs. Robyn has taught sold out workshops in Australia and New Zealand\, and her quilt/sewing projects have been featured in various publications (including Make Modern Magazine\, Quilters Companion and Homespun Magazine.). Her designs reflect her respect for the slow stitching process\, as well as her passion for all things Liberty. \n \n  \n\n\n \nFurther Details:\nLunch and morning tea will be provided. \n\n\n\n\n	Level of skillIntermediate to Advanced \n\n\n	PrerequisitesBasic knowledge of patchwork \n\n\n	Hours of attendance10:00am to 3pm \n\n\n	Cost$150\n\n\n	Frequency5 hours\n\n\n\n\n\n\n
URL:http://a2f.com.au/workshop/lets-wrap-with-kerry-2-2-2-4-3-3-3-4-5/
LOCATION:Addicted 2 Fabric Office\, 25 Dundas Court\, Phillip\, ACT\, 2606\, Australia
CATEGORIES:Current
ATTACH;FMTTYPE=image/jpeg:http://a2f.com.au/wp-content/uploads/2020/01/scrappy-boho-quilt-e1580373127878.jpg
END:VEVENT
BEGIN:VEVENT
DTSTART;TZID="Australia/Adelaide":20200507T180000
DTEND;TZID="Australia/Adelaide":20200507T193000
DTSTAMP:20200224T185852
CREATED:20190522T025919Z
LAST-MODIFIED:20200116T064118Z
UID:1665-1588874400-1588879800@a2f.com.au
SUMMARY:The Pattern Drafter - FREE DEMONSTRATION
DESCRIPTION: \nDescription:\nPlease note: This is a free demonstration  \n  \nAre you tired of spending hours adjusting patterns only to find they still don’t fit? \nThen why not come along to a one hour session on how to draft your own pattenrs for adults and children. \nLearn how to draw dress\, pants sleeve and collar patterns for the whole family the quick and easy way. \nYou don’t need any previous experience in drafting. \nPatterns are drawn in your measurements and are a perfect fit. \nLearn how from one pattern you can create ALL designs . ALL shapes and sizes are catered for. \n\n\n \nFurther Details:\n\n\n\n\n	Level of skillBeginners to advanced\n\n\n	PrerequisitesNone\n\n\n	Hours of attendance5.30pm-7pm\n\n\n	CostFree\n\n\n	Frequency\n\n\n\n\n\n\n
URL:http://a2f.com.au/workshop/christmas-in-july-with-sylvia-3-2-3/
LOCATION:Addicted 2 Fabric Office\, 25 Dundas Court\, Phillip\, ACT\, 2606\, Australia
CATEGORIES:Current
ATTACH;FMTTYPE=image/jpeg:http://a2f.com.au/wp-content/uploads/2019/01/New_TPD_logo_1170x_crop_center-e1548901298420.jpg
END:VEVENT
BEGIN:VEVENT
DTSTART;TZID="Australia/Adelaide":20200508T093000
DTEND;TZID="Australia/Adelaide":20200509T153000
DTSTAMP:20200224T185852
CREATED:20191219T232004Z
LAST-MODIFIED:20200130T093247Z
UID:2074-1588930200-1589038200@a2f.com.au
SUMMARY:The Pattern Drafter With Trish Hargrave -  2 Day Dress Pattern Drafting & Sewing Workshop
DESCRIPTION: \nDescription:\nPlease note: This Workshop is run over 2 days \nWould you like to learn how to make patterns for dress and tops that fit you like a glove? \nAre you tired of spending hours adjusting patterns only to find they still don’t fit? \nThen why not come along to a 2-day pattern drafting & sewing workshop\, where you will learn how to make patterns in YOUR measurements the quick and easy way\, and then sew a garment for yourself\, using the pattern you’ve made. \nOn the first day you will make and try on a dress pattern\, and then be shown how to modify the pattern into your chosen design. \nOn the second day\, you will use the pattern that you’ve made; to cut out and sew a dress or top in your chosen fabric\, with guided step by step sewing instructions. \nPattern drafting has never been easier to do; and you don’t need any previous experience to do this workshop. \nThis is a great way to learn the tricks of the trade\, giving you the confidence to sew for yourself and even others. Positions are limited so don’t delay… register now. \nPlease note: Maria’s book and the template will be sold separately on the day and is not inclusive in the workshop. \n\n\n \nFurther Details:\nTHE PATTERN DRAFTER 2-DAY DRESS WORKSHOP Requirements. \nStudents are required to bring the following:\n• The Pattern Drafter (must own or purchase to attend workshop)\n• Vilene or Trace & Toile (twice their length)\n• Carbon paper and tracing wheel/roller to transfer darts onto fabric\n• Calico (2m)\n• Tape Measure & 30cm ruler\n• Scissors / thread / pins\n• Pen\n• Sewing machine (in working order)\n• Woven fabric of their choice to make a simple dress or top. Haberdashery to complete their garment. \n  \n\n\n\n\n	Level of skillBeginners to advanced\n\n\n	PrerequisitesNone\n\n\n	Hours of attendance9:30am to 3:30pm \n\n\n	Cost$220\n\n\n	FrequencySix Hours on each day - 9:30am-3:30pm per day\n\n\n\n\n\n\n
URL:http://a2f.com.au/workshop/christmas-in-july-with-sylvia-3-3/
LOCATION:Addicted 2 Fabric Office\, 25 Dundas Court\, Phillip\, ACT\, 2606\, Australia
CATEGORIES:Current
ATTACH;FMTTYPE=image/jpeg:http://a2f.com.au/wp-content/uploads/2019/01/New_TPD_logo_1170x_crop_center-e1548901298420.jpg
END:VEVENT
BEGIN:VEVENT
DTSTART;TZID="Australia/Adelaide":20200510T093000
DTEND;TZID="Australia/Adelaide":20200510T153000
DTSTAMP:20200224T185852
CREATED:20191219T232935Z
LAST-MODIFIED:20191219T234016Z
UID:2117-1589103000-1589124600@a2f.com.au
SUMMARY:The Pattern Drafter With Trish Hargrave-  1 Day Pants Pattern Drafting & Sewing Workshop
DESCRIPTION: \nDescription:\nPlease note: This Workshop is 1 day  \nWould you like to learn how to make patterns for pants that fit you like a glove? \nAre you tired of spending hours adjusting patterns only to find they still don’t fit? \nThen why not come along to 1 day pattern drafting & sewing workshop\, where you will learn how to make patterns in YOUR measurements the quick and easy way\, and then sew a garment for yourself\, using the pattern you’ve made. \nPattern drafting has never been easier to do; and you don’t need any previous experience to do this workshop. \nThis is a great way to learn the tricks of the trade\, giving you the confidence to sew for yourself and even others. Positions are limited so don’t delay… register now. \nPlease note: Maria’s book and the template will be sold separately on the day and is not inclusive in the workshop. \n\n\n \nFurther Details:\nStudents are required to bring the following:\n• The Pattern Drafter (must own or purchase to attend workshop)\n• Vilene or Trace & Toile (twice their length)\n• Carbon paper and tracing wheel/roller to transfer darts onto fabric\n• Calico (1.5m)\n• Tape Measure & 30cm ruler\n• Scissors / thread / pins\n• Pen\n• Sewing machine (in working order) \n  \n\n\n\n\n	Level of skillBeginners to advanced\n\n\n	PrerequisitesNone\n\n\n	Hours of attendance9:30am to 3:30pm \n\n\n	Cost$150\n\n\n	FrequencySix Hours  - 9:30am-3:30pm\n\n\n\n\n\n\n
URL:http://a2f.com.au/workshop/christmas-in-july-with-sylvia-3-4/
LOCATION:Addicted 2 Fabric Office\, 25 Dundas Court\, Phillip\, ACT\, 2606\, Australia
CATEGORIES:Current
ATTACH;FMTTYPE=image/jpeg:http://a2f.com.au/wp-content/uploads/2019/01/New_TPD_logo_1170x_crop_center-e1548901298420.jpg
END:VEVENT
BEGIN:VEVENT
DTSTART;TZID="Australia/Adelaide":20200516T213000
DTEND;TZID="Australia/Adelaide":20200523T160000
DTSTAMP:20200224T185852
CREATED:20200130T085904Z
LAST-MODIFIED:20200130T085904Z
UID:2243-1589664600-1590249600@a2f.com.au
SUMMARY:Templates in Quilt Making with Beth and Trevor Reid
DESCRIPTION: \nNOTE: This is a 2 day workshop over 2 Saturdays (16th and 23rd of May) \nThis workshop explores cutting a template to be used as a repeat design and its possible variations.\nDesign options will be explored along with the use of colour and contrast\, patterned fabrics versus plain\, large and small print and the use of contemporary fabrics such as batiks and ombre’d. Utilising fabrics from the stash\, the design can be used to construct a small quilt\, wall hanging\, table runner or the beginnings of a larger quilt. The top can be constructed as quilt as you go or stitched together and quilted as a whole. \n  \nFurther Details\n\n\n\n\n	Level of skillIntermediate to Advanced \n\n\n	PrerequisitesNil\n\n\n	Duration2 Saturdays \n\n\n	Hours of attendance9.30am - 4pm \n\n\n	Cost$180 for the 2 days \n\n\n\n\n\n\n
URL:http://a2f.com.au/workshop/beginners-patchwork-with-wendy-saclier-2-2-2-3-3/
LOCATION:Addicted 2 Fabric Office\, 25 Dundas Court\, Phillip\, ACT\, 2606\, Australia
ATTACH;FMTTYPE=image/jpeg:http://a2f.com.au/wp-content/uploads/2020/01/templates-in-quilt-making--e1580374521414.jpg
END:VEVENT
BEGIN:VEVENT
DTSTART;VALUE=DATE:20201231
DTEND;VALUE=DATE:20210101
DTSTAMP:20200224T185852
CREATED:20200115T054719Z
LAST-MODIFIED:20200115T054719Z
UID:2154-1609372800-1609459199@a2f.com.au
SUMMARY:One on One classes with Bex Eden
DESCRIPTION: \nDescription:\nThese one on one classes are a valuable way to learn in a private lesson with just you and Bex. If you are wanting to learn a specific sewing skill\, having trouble with a sewing pattern\, need help learning your machine or adjusting a pattern? Bex can help you! \nThese classes are booked on an hourly basis at $50 per hour and all you need to do is pop in store and call us to arrange a time and have a chat about what it is you want to achieve in your lesson. \n  \n  \n\n\n \nFurther Details:\n\n\n\n\n	Level of skillBeginners to Advanced \n\n\n	PrerequisitesNone\n\n\n	Hours of attendance1 hour booked at a time that suits \n\n\n	Cost$50 \n\n\n	FrequencyOngoing service in store \n\n\n\n\n\n\n
URL:http://a2f.com.au/workshop/lets-wrap-with-kerry-2-2-2-4-3-3-3-2-3-3/2020-12-31/
LOCATION:Addicted 2 Fabric Office\, 25 Dundas Court\, Phillip\, ACT\, 2606\, Australia
CATEGORIES:Current
ATTACH;FMTTYPE=image/jpeg:http://a2f.com.au/wp-content/uploads/2017/10/event04-e1579066603562.jpg
END:VEVENT
END:VCALENDAR